BEGIN:VCALENDAR
VERSION:2.0
PRODID:-//Organisation Française de Cornhole - ECPv6.15.20//NONSGML v1.0//EN
CALSCALE:GREGORIAN
METHOD:PUBLISH
X-WR-CALNAME:Organisation Française de Cornhole
X-ORIGINAL-URL:https://www.ofch.fr
X-WR-CALDESC:Évènements pour Organisation Française de Cornhole
REFRESH-INTERVAL;VALUE=DURATION:PT1H
X-Robots-Tag:noindex
X-PUBLISHED-TTL:PT1H
BEGIN:VTIMEZONE
TZID:Europe/Paris
BEGIN:DAYLIGHT
TZOFFSETFROM:+0100
TZOFFSETTO:+0200
TZNAME:CEST
DTSTART:20230326T010000
END:DAYLIGHT
BEGIN:STANDARD
TZOFFSETFROM:+0200
TZOFFSETTO:+0100
TZNAME:CET
DTSTART:20231029T010000
END:STANDARD
BEGIN:DAYLIGHT
TZOFFSETFROM:+0100
TZOFFSETTO:+0200
TZNAME:CEST
DTSTART:20240331T010000
END:DAYLIGHT
BEGIN:STANDARD
TZOFFSETFROM:+0200
TZOFFSETTO:+0100
TZNAME:CET
DTSTART:20241027T010000
END:STANDARD
BEGIN:DAYLIGHT
TZOFFSETFROM:+0100
TZOFFSETTO:+0200
TZNAME:CEST
DTSTART:20250330T010000
END:DAYLIGHT
BEGIN:STANDARD
TZOFFSETFROM:+0200
TZOFFSETTO:+0100
TZNAME:CET
DTSTART:20251026T010000
END:STANDARD
END:VTIMEZONE
BEGIN:VEVENT
DTSTART;TZID=Europe/Paris:20240413T143000
DTEND;TZID=Europe/Paris:20240413T170000
DTSTAMP:20260420T152106
CREATED:20240328T142647Z
LAST-MODIFIED:20240328T142649Z
UID:389-1713018600-1713027600@www.ofch.fr
SUMMARY:Journée découverte
DESCRIPTION:Les Bags On fire vous invitent à venir découvrir le Cornhole sur la place centrale de Grenade sur Adour le samedi après-midi 13 avril 2024.
URL:https://www.ofch.fr/evenement/journee-decouverte/
LOCATION:Place des Tilleuls\, Place des Tilleuls\, Grenade-sur-l'Adour\, 40270\, France
CATEGORIES:Découverte
END:VEVENT
END:VCALENDAR