BEGIN:VCALENDAR
VERSION:2.0
PRODID:-//Organisation Française de Cornhole - ECPv6.15.20//NONSGML v1.0//EN
CALSCALE:GREGORIAN
METHOD:PUBLISH
X-WR-CALNAME:Organisation Française de Cornhole
X-ORIGINAL-URL:https://www.ofch.fr
X-WR-CALDESC:Évènements pour Organisation Française de Cornhole
REFRESH-INTERVAL;VALUE=DURATION:PT1H
X-Robots-Tag:noindex
X-PUBLISHED-TTL:PT1H
BEGIN:VTIMEZONE
TZID:Europe/Paris
BEGIN:DAYLIGHT
TZOFFSETFROM:+0100
TZOFFSETTO:+0200
TZNAME:CEST
DTSTART:20240331T010000
END:DAYLIGHT
BEGIN:STANDARD
TZOFFSETFROM:+0200
TZOFFSETTO:+0100
TZNAME:CET
DTSTART:20241027T010000
END:STANDARD
BEGIN:DAYLIGHT
TZOFFSETFROM:+0100
TZOFFSETTO:+0200
TZNAME:CEST
DTSTART:20250330T010000
END:DAYLIGHT
BEGIN:STANDARD
TZOFFSETFROM:+0200
TZOFFSETTO:+0100
TZNAME:CET
DTSTART:20251026T010000
END:STANDARD
BEGIN:DAYLIGHT
TZOFFSETFROM:+0100
TZOFFSETTO:+0200
TZNAME:CEST
DTSTART:20260329T010000
END:DAYLIGHT
BEGIN:STANDARD
TZOFFSETFROM:+0200
TZOFFSETTO:+0100
TZNAME:CET
DTSTART:20261025T010000
END:STANDARD
END:VTIMEZONE
BEGIN:VEVENT
DTSTART;TZID=Europe/Paris:20250220T100000
DTEND;TZID=Europe/Paris:20250220T180000
DTSTAMP:20260420T015411
CREATED:20241008T140016Z
LAST-MODIFIED:20241008T140018Z
UID:775-1740045600-1740074400@www.ofch.fr
SUMMARY:Stage Jimmy Youmans
DESCRIPTION:Pour la première fois en France ! \n\n\n\nJimmy Youmans parrain de la section USM Cornhole nous fait l’honneur de venir animer un stage et participer à notre tournoi. \n\n\n\nNous allons organiser des groupes de niveau. \n\n\n\nAttention le nombre de places est limité.
URL:https://www.ofch.fr/evenement/stage-jimmy-youmans/
LOCATION:COSEC de Marolles-en-Hurepoix\, Av. du Lieutenant Agoutin\, Marolles-en-Hurepoix\, 91630\, France
CATEGORIES:Découverte
END:VEVENT
END:VCALENDAR