BEGIN:VCALENDAR
VERSION:2.0
PRODID:-//Organisation Française de Cornhole - ECPv6.15.20//NONSGML v1.0//EN
CALSCALE:GREGORIAN
METHOD:PUBLISH
X-WR-CALNAME:Organisation Française de Cornhole
X-ORIGINAL-URL:https://www.ofch.fr
X-WR-CALDESC:Évènements pour Organisation Française de Cornhole
REFRESH-INTERVAL;VALUE=DURATION:PT1H
X-Robots-Tag:noindex
X-PUBLISHED-TTL:PT1H
BEGIN:VTIMEZONE
TZID:Europe/Paris
BEGIN:DAYLIGHT
TZOFFSETFROM:+0100
TZOFFSETTO:+0200
TZNAME:CEST
DTSTART:20240331T010000
END:DAYLIGHT
BEGIN:STANDARD
TZOFFSETFROM:+0200
TZOFFSETTO:+0100
TZNAME:CET
DTSTART:20241027T010000
END:STANDARD
BEGIN:DAYLIGHT
TZOFFSETFROM:+0100
TZOFFSETTO:+0200
TZNAME:CEST
DTSTART:20250330T010000
END:DAYLIGHT
BEGIN:STANDARD
TZOFFSETFROM:+0200
TZOFFSETTO:+0100
TZNAME:CET
DTSTART:20251026T010000
END:STANDARD
BEGIN:DAYLIGHT
TZOFFSETFROM:+0100
TZOFFSETTO:+0200
TZNAME:CEST
DTSTART:20260329T010000
END:DAYLIGHT
BEGIN:STANDARD
TZOFFSETFROM:+0200
TZOFFSETTO:+0100
TZNAME:CET
DTSTART:20261025T010000
END:STANDARD
END:VTIMEZONE
BEGIN:VEVENT
DTSTART;TZID=Europe/Paris:20250614T140000
DTEND;TZID=Europe/Paris:20250614T180000
DTSTAMP:20260426T021959
CREATED:20250519T141022Z
LAST-MODIFIED:20250519T141023Z
UID:1028-1749909600-1749924000@www.ofch.fr
SUMMARY:Blind Draw Spore
DESCRIPTION:Tournoi gratuit ! Rendez-vous à 14 h pour les inscriptions et le tirage des équipes. \n\n\n\nNOUVEAU FORMAT :Pas besoin de venir accompagné\, votre partenaire sera tiré au sort au début du tournoi. Chaque équipe sera constituée d’un ou une joueuse expérimentée et d’un ou une joueuse niveau débutant. Tout le monde a sa chance de gagner ! \n\n\n\nPré-inscription possible sur Scoreholio :https://share.scoreholio.com/n4JdT0eApTb
URL:https://www.ofch.fr/evenement/blind-draw-spore/
LOCATION:Brasserie Spore\, 13 rue de la mairie\, Gravigny\, 27930\, France
CATEGORIES:Tournoi,Tournoi local
ATTACH;FMTTYPE=image/jpeg:https://www.ofch.fr/wp-content/uploads/2025/05/2025-06-blind-draw.jpg
ORGANIZER;CN="Spore Cornhole Club":MAILTO:spore.cornholeclub@gmail.com
END:VEVENT
END:VCALENDAR