BEGIN:VCALENDAR
VERSION:2.0
PRODID:-//Organisation Française de Cornhole - ECPv6.15.20//NONSGML v1.0//EN
CALSCALE:GREGORIAN
METHOD:PUBLISH
X-WR-CALNAME:Organisation Française de Cornhole
X-ORIGINAL-URL:https://www.ofch.fr
X-WR-CALDESC:Évènements pour Organisation Française de Cornhole
REFRESH-INTERVAL;VALUE=DURATION:PT1H
X-Robots-Tag:noindex
X-PUBLISHED-TTL:PT1H
BEGIN:VTIMEZONE
TZID:Europe/Paris
BEGIN:DAYLIGHT
TZOFFSETFROM:+0100
TZOFFSETTO:+0200
TZNAME:CEST
DTSTART:20240331T010000
END:DAYLIGHT
BEGIN:STANDARD
TZOFFSETFROM:+0200
TZOFFSETTO:+0100
TZNAME:CET
DTSTART:20241027T010000
END:STANDARD
BEGIN:DAYLIGHT
TZOFFSETFROM:+0100
TZOFFSETTO:+0200
TZNAME:CEST
DTSTART:20250330T010000
END:DAYLIGHT
BEGIN:STANDARD
TZOFFSETFROM:+0200
TZOFFSETTO:+0100
TZNAME:CET
DTSTART:20251026T010000
END:STANDARD
BEGIN:DAYLIGHT
TZOFFSETFROM:+0100
TZOFFSETTO:+0200
TZNAME:CEST
DTSTART:20260329T010000
END:DAYLIGHT
BEGIN:STANDARD
TZOFFSETFROM:+0200
TZOFFSETTO:+0100
TZNAME:CET
DTSTART:20261025T010000
END:STANDARD
END:VTIMEZONE
BEGIN:VEVENT
DTSTART;TZID=Europe/Paris:20251108T090000
DTEND;TZID=Europe/Paris:20251108T180000
DTSTAMP:20260425T175734
CREATED:20251009T094608Z
LAST-MODIFIED:20251009T163023Z
UID:1172-1762592400-1762624800@www.ofch.fr
SUMMARY:Tournoi des copains d'abord
DESCRIPTION:Switch découverte de 9h à 12h : 5 € \n\n\n\nDouble vers 13h30 : 5 € \n\n\n\nInscription : contact@cornholeleman.com
URL:https://www.ofch.fr/evenement/tournoi-des-copains-dabord/
LOCATION:Gymnase Saint-Simon – Prévessin-Moëns\, 500 Rte de Saint-Genis\, Prévessin-Moëns\, 01280\, France
CATEGORIES:Tournoi,Tournoi local
ORGANIZER;CN="Cornhole L%C3%A9man":MAILTO:contact@cornholeleman.com
END:VEVENT
BEGIN:VEVENT
DTSTART;TZID=Europe/Paris:20251111T100000
DTEND;TZID=Europe/Paris:20251111T170000
DTSTAMP:20260425T175734
CREATED:20251017T090705Z
LAST-MODIFIED:20251017T090705Z
UID:1196-1762855200-1762880400@www.ofch.fr
SUMMARY:Initiation et tournoi à Brison-Saint-Innocent
DESCRIPTION:📢 Le Cornhole débarque à Brison-Saint-Innocent ! 📢 Le Cornhole débarque à Brison-Saint-Innocent !Rendez-vous mardi 11 novembre à la salle Despine dès 10h pour une journée placée sous le signe de la bonne humeur 🎯Au programme :✅ Initiation pour découvrir ce jeu d’adresse venu des États-Unis✅ Tournoi pour défier tes amis et montrer ton talent🍔 Buvette et restauration sur place pour reprendre des forces😄 Ambiance conviviale garantie pour petits et grands !Que tu sois joueur aguerri ou simple curieux\, viens passer un bon moment au bord du lac avec Cornhole Savoie – Brison Saint Innocent 🐻
URL:https://www.ofch.fr/evenement/initiation-et-tournoi-a-brison-saint-innocent/
CATEGORIES:Découverte,Tournoi,Tournoi local
END:VEVENT
BEGIN:VEVENT
DTSTART;TZID=Europe/Paris:20251116T093000
DTEND;TZID=Europe/Paris:20251116T170000
DTSTAMP:20260425T175734
CREATED:20251016T070247Z
LAST-MODIFIED:20251017T092403Z
UID:1193-1763285400-1763312400@www.ofch.fr
SUMMARY:Tournoi en doublette R2B Cornhole
DESCRIPTION:Notre premier tournoi de cette nouvelle saison 2025-2026 ouvert à tous. \n\n\n\nQue tu sois un tireur d’élite ou un spécialiste du sac qui rebondit à côté\, viens tenter ta chance. \n\n\n\nRejoins-nous pour un tournoi de cornhole plein de bonne humeur\, de défis\, et peut-être… d’un peu de mauvaise foi  \n\n\n\nForme ton duo\, invente-lui un nom ridicule\, et viens tenter de décrocher la gloire éternelle \n\n\n\nVenez découvrir\, redécouvrir le Cornhole. \n\n\n\nPartage\, passion\, convivialité  \n\n\n\nBuvette et restauration sur place.Ouverture des portes à 9h30 et début du tournoi à 10h30.
URL:https://www.ofch.fr/evenement/tournoi-en-doublette-r2b-cornhole/
LOCATION:Salle omnisports Saint-Aubin-le-Cloud\, 29 rue des Ecoles\, Saint-Aubin-le-Cloud\, 79450\, France
CATEGORIES:Tournoi,Tournoi local
ATTACH;FMTTYPE=image/jpeg:https://www.ofch.fr/wp-content/uploads/2025/10/2025-11-tournoi-RB2-e1760598134610.jpg
ORGANIZER;CN="R2B Cornhole":MAILTO:r2bcornhole@gmail.com
END:VEVENT
END:VCALENDAR