BEGIN:VCALENDAR
VERSION:2.0
PRODID:-//Organisation Française de Cornhole - ECPv6.15.20//NONSGML v1.0//EN
CALSCALE:GREGORIAN
METHOD:PUBLISH
X-ORIGINAL-URL:https://www.ofch.fr
X-WR-CALDESC:Évènements pour Organisation Française de Cornhole
REFRESH-INTERVAL;VALUE=DURATION:PT1H
X-Robots-Tag:noindex
X-PUBLISHED-TTL:PT1H
BEGIN:VTIMEZONE
TZID:Europe/Paris
BEGIN:DAYLIGHT
TZOFFSETFROM:+0100
TZOFFSETTO:+0200
TZNAME:CEST
DTSTART:20240331T010000
END:DAYLIGHT
BEGIN:STANDARD
TZOFFSETFROM:+0200
TZOFFSETTO:+0100
TZNAME:CET
DTSTART:20241027T010000
END:STANDARD
BEGIN:DAYLIGHT
TZOFFSETFROM:+0100
TZOFFSETTO:+0200
TZNAME:CEST
DTSTART:20250330T010000
END:DAYLIGHT
BEGIN:STANDARD
TZOFFSETFROM:+0200
TZOFFSETTO:+0100
TZNAME:CET
DTSTART:20251026T010000
END:STANDARD
BEGIN:DAYLIGHT
TZOFFSETFROM:+0100
TZOFFSETTO:+0200
TZNAME:CEST
DTSTART:20260329T010000
END:DAYLIGHT
BEGIN:STANDARD
TZOFFSETFROM:+0200
TZOFFSETTO:+0100
TZNAME:CET
DTSTART:20261025T010000
END:STANDARD
END:VTIMEZONE
BEGIN:VEVENT
DTSTART;TZID=Europe/Paris:20250508T140000
DTEND;TZID=Europe/Paris:20250508T180000
DTSTAMP:20260426T054349
CREATED:20250422T095055Z
LAST-MODIFIED:20250422T095144Z
UID:990-1746712800-1746727200@www.ofch.fr
SUMMARY:Tournoi Ch'ti Cornhole
DESCRIPTION:Ouverture des portes 12h30 \n\n\n\nTournoi en doubles avec phase de poules de 4 équipes \n\n\n\nRestauration sur place
URL:https://www.ofch.fr/evenement/tournoi-en-double/
LOCATION:Salle de Sports de Sains-en-Gohelle\, Rue Sully\, Sains-en-Gohelle\, 62114\, France
CATEGORIES:Tournoi,Tournoi local
END:VEVENT
END:VCALENDAR