BEGIN:VCALENDAR
VERSION:2.0
PRODID:-//Organisation Française de Cornhole - ECPv6.15.20//NONSGML v1.0//EN
CALSCALE:GREGORIAN
METHOD:PUBLISH
X-ORIGINAL-URL:https://www.ofch.fr
X-WR-CALDESC:Évènements pour Organisation Française de Cornhole
REFRESH-INTERVAL;VALUE=DURATION:PT1H
X-Robots-Tag:noindex
X-PUBLISHED-TTL:PT1H
BEGIN:VTIMEZONE
TZID:Europe/Paris
BEGIN:DAYLIGHT
TZOFFSETFROM:+0100
TZOFFSETTO:+0200
TZNAME:CEST
DTSTART:20240331T010000
END:DAYLIGHT
BEGIN:STANDARD
TZOFFSETFROM:+0200
TZOFFSETTO:+0100
TZNAME:CET
DTSTART:20241027T010000
END:STANDARD
BEGIN:DAYLIGHT
TZOFFSETFROM:+0100
TZOFFSETTO:+0200
TZNAME:CEST
DTSTART:20250330T010000
END:DAYLIGHT
BEGIN:STANDARD
TZOFFSETFROM:+0200
TZOFFSETTO:+0100
TZNAME:CET
DTSTART:20251026T010000
END:STANDARD
BEGIN:DAYLIGHT
TZOFFSETFROM:+0100
TZOFFSETTO:+0200
TZNAME:CEST
DTSTART:20260329T010000
END:DAYLIGHT
BEGIN:STANDARD
TZOFFSETFROM:+0200
TZOFFSETTO:+0100
TZNAME:CET
DTSTART:20261025T010000
END:STANDARD
END:VTIMEZONE
BEGIN:VEVENT
DTSTART;TZID=Europe/Paris:20251108T090000
DTEND;TZID=Europe/Paris:20251108T180000
DTSTAMP:20260425T193607
CREATED:20251009T094608Z
LAST-MODIFIED:20251009T163023Z
UID:1172-1762592400-1762624800@www.ofch.fr
SUMMARY:Tournoi des copains d'abord
DESCRIPTION:Switch découverte de 9h à 12h : 5 € \n\n\n\nDouble vers 13h30 : 5 € \n\n\n\nInscription : contact@cornholeleman.com
URL:https://www.ofch.fr/evenement/tournoi-des-copains-dabord/
LOCATION:Gymnase Saint-Simon – Prévessin-Moëns\, 500 Rte de Saint-Genis\, Prévessin-Moëns\, 01280\, France
CATEGORIES:Tournoi,Tournoi local
ORGANIZER;CN="Cornhole L%C3%A9man":MAILTO:contact@cornholeleman.com
END:VEVENT
END:VCALENDAR